BEGIN:VCALENDAR
VERSION:2.0
PRODID:-//AUC - ECPv6.15.18//NONSGML v1.0//EN
CALSCALE:GREGORIAN
METHOD:PUBLISH
X-WR-CALNAME:AUC
X-ORIGINAL-URL:https://www.auc.com.uy
X-WR-CALDESC:Eventos para AUC
REFRESH-INTERVAL;VALUE=DURATION:PT1H
X-Robots-Tag:noindex
X-PUBLISHED-TTL:PT1H
BEGIN:VTIMEZONE
TZID:UTC
BEGIN:STANDARD
TZOFFSETFROM:+0000
TZOFFSETTO:+0000
TZNAME:UTC
DTSTART:20250101T000000
END:STANDARD
END:VTIMEZONE
BEGIN:VEVENT
DTSTART;TZID=UTC:20260422T093000
DTEND;TZID=UTC:20260423T180000
DTSTAMP:20260423T021831
CREATED:20260324T125510Z
LAST-MODIFIED:20260417T145612Z
UID:74536-1776850200-1776967200@www.auc.com.uy
SUMMARY:Curso Laboratorio (Módulo II - Diploma de Técnico en obras viales)
DESCRIPTION:Información general \nFechas y Horarios: \n\nMiércoles 22 de abril 2026 – 9:30 a 13:00 y 14:00 a 17:00 hs.\nJueves 23 de abril 2026 – 9:30 a 13:00 y 14:00 a 17:00 hs.\nEvaluación – 23/04 17:00 a 18:00 hs.\n\nDocente: Luis López Castro \nLugar:  Sede de AUC (Santiago de Chile 1322 Of. 1601\, Montevideo) \nDestinatarios: Técnicos y operarios que desarrollan actividad en el sector construcción de Obras Viales y estudiantes de Ingeniería Civil. También es aplicable a ingenieros civiles junior y profesiones afines. Se sugiere poseer conocimientos básicos o experiencia previa en obras viales. \nObjetivos: Desarrollar conocimiento\, experiencia y capacitación para realizar tareas inherentes a un técnico de mando medio especializado en el área vial. Aplicación de herramientas técnicas e informáticas para proyecto\, ejecución y control de obras. \nAprobación/Certificados: Se otorgará certificado de asistencia / aprobación según se opte o no por la instancia de evaluación\, expedido por la Asociación Uruguaya de Caminos. Para obtener el Diploma de Técnico en Obras Viales se deberán completar los 8 módulos del mismo.  \n  \nPrograma analítico \nINTRODUCCIÓN Concepto de Calidad. Significado histórico y actual. El Laboratorio: en el gabinete de diseño y en obra/en relación con la Gestión y el Control de Calidad. Las normas: gestación y rol. Las grandes áreas del trabajo de Laboratorio: suelos\, asfalto y hormigón. \nSUELOS Extracción de muestras: Concepto de muestra representativa. Cuarteo manual y mecánico. Clasificación: Granulometría. Ensayos con tamices / Límites de Atterberg: Consistencia. Límites de consistencia / Sistemas de Clasificación Compactación: conceptos. Ensayo previo. Proctor / Ensayo posterior. Densidad en sitio. Capacidad Soporte de un suelo. Ensayo CBR (California Bearing Ratio). Ensayo de soporte y expansión. \nAGREGADOS Piedra\, cantos rodados\, gravilla\, gravillín\, arenas\, polvos\, filler\, otros: materias primas de mezclas asfálticas u hormigones. Forma: Granulometría\, Índice de lajas y agujas. Peso Específico. Limpieza: Impalpable\, contenido de arcilla\, contaminación\, etc. Desgaste: Ensayo de desgaste Los Ángeles. \nASFALTO Generalidades: los productos asfálticos a lo largo de la historia\, los productos actuales más relevantes: Cementos asfálticos\, diluidos asfálticos y emulsiones asfálticas. Rutina Marshall. Para mezclas asfálticas en caliente. Dosificación / Control. Adhesividad asfalto-agregado. Testigos \nHORMIGÓN Dosificación. Dosificación granulométrica: Füller y Bolomey / Cemento: Elección del cemento\, Tenor de Aglomerante / Relación A/C. Control: Probetas. Ensayo de compresión. Otros \nNUEVAS TENDENCIAS Reciclado de materiales y mezclas. Prefabricados. Adición de fibras y uso de geotextiles. Aditivos para hormigones y asfaltos. Interacción con otros laboratorios: Evaluar el confort y la satisfacción: insonoridad e IRI (índice de regularidad internacional) \n  \nInscripciones y Costos \nLos interesados deberán pre-inscribirse enviando el formulario que se encuentra abajo señalado y completar la inscripción abonando el costo señalado\, hasta el viernes 17 de abril a las 17:00 hs. por transferencia o depósito bancario. Una vez recibido el formulario se enviará correo electrónico confirmando la inscripción y datos para el pago. \nEl costo del curso es el siguiente: \nSocios de AUC: $ 6.000.- / No socios de AUC: $ 8.600.- \n  \nInscripciones cerradas por cupo completo
URL:https://www.auc.com.uy/event/curso-laboratorio-modulo-ii-dtov-2/
LOCATION:Sede AUC\, Santiago de Chile 1322 Of. 1601\, Montevideo\, 11200\, Uruguay
CATEGORIES:curso,eventos_futuros
ATTACH;FMTTYPE=image/png:https://www.auc.com.uy/wp-content/uploads/2026/03/Titulo-web-Laboratorio_2026.png
ORGANIZER;CN="Asociaci%C3%B3n Uruguaya de Caminos":MAILTO:secretaria@auc.com.uy
END:VEVENT
END:VCALENDAR